BEGIN:VCALENDAR
VERSION:2.0
PRODID:-//CWSG - ECPv6.15.20//NONSGML v1.0//EN
CALSCALE:GREGORIAN
METHOD:PUBLISH
X-ORIGINAL-URL:https://cwsgcomo.org
X-WR-CALDESC:Events for CWSG
REFRESH-INTERVAL;VALUE=DURATION:PT1H
X-Robots-Tag:noindex
X-PUBLISHED-TTL:PT1H
BEGIN:VTIMEZONE
TZID:UTC
BEGIN:STANDARD
TZOFFSETFROM:+0000
TZOFFSETTO:+0000
TZNAME:UTC
DTSTART:20240101T000000
END:STANDARD
END:VTIMEZONE
BEGIN:VEVENT
DTSTART;TZID=UTC:20250430T180000
DTEND;TZID=UTC:20250430T200000
DTSTAMP:20260423T154001
CREATED:20250401T005000Z
LAST-MODIFIED:20250425T182555Z
UID:3317-1746036000-1746043200@cwsgcomo.org
SUMMARY:Youth Fiber Arts Exhibition Awards Ceremony and Celebration
DESCRIPTION:Reception Celebration 6:00 to 8:00 PM with award ceremony at 7:00 PM. \nSponsored by Columbia Weavers and Spinners’ Guild (CWSG)  \nThe Youth Fiber Art Exhibition is a fun and creative program designed to encourage the instruction of fiber art skills to area children. Students create a fiber art project as part of their regular art classes or clubs. Art pieces will be judged using the following criteria: visual impact\, interpretation and creativity\, composition\, design\, and craftsmanship. Prizes will be awarded to students in each school. Art projects will be picked up by a guild member to be displayed at the Boone Electric Community Building. All participating students\, parents\, and teachers are invited to this celebration reception. Award winning work will be displayed in the Columbia Art League gallery following the show. Join us as we celebrate our Young Fiber Artists.
URL:https://cwsgcomo.org/event/youth-fiber-arts-exhibition-awards-ceremony-and-celebration/
LOCATION:Boone Electric Cooperatve Community Room\, 1413 Rangeline St\, Columbia\, 65201\, United States
END:VEVENT
END:VCALENDAR