BEGIN:VCALENDAR
VERSION:2.0
PRODID:-//CWSG - ECPv6.15.20//NONSGML v1.0//EN
CALSCALE:GREGORIAN
METHOD:PUBLISH
X-ORIGINAL-URL:https://cwsgcomo.org
X-WR-CALDESC:Events for CWSG
REFRESH-INTERVAL;VALUE=DURATION:PT1H
X-Robots-Tag:noindex
X-PUBLISHED-TTL:PT1H
BEGIN:VTIMEZONE
TZID:UTC
BEGIN:STANDARD
TZOFFSETFROM:+0000
TZOFFSETTO:+0000
TZNAME:UTC
DTSTART:20250101T000000
END:STANDARD
END:VTIMEZONE
BEGIN:VEVENT
DTSTART;TZID=UTC:20260519T180000
DTEND;TZID=UTC:20260519T200000
DTSTAMP:20260423T091246
CREATED:20260422T185435Z
LAST-MODIFIED:20260422T185525Z
UID:3446-1779213600-1779220800@cwsgcomo.org
SUMMARY:Guild Challenge Meeting
DESCRIPTION:Guild Challenge meeting and extended Show and Tell by Study Groups. (at our regular meeting)
URL:https://cwsgcomo.org/event/guild-challenge-meeting/
LOCATION:Bethel Baptist Church and Zoom\, 201 E Old Plank Rd\, Columbia\, 65203\, United States
END:VEVENT
BEGIN:VEVENT
DTSTART;TZID=UTC:20260530T100000
DTEND;TZID=UTC:20260530T140000
DTSTAMP:20260423T091246
CREATED:20260422T185653Z
LAST-MODIFIED:20260422T185653Z
UID:3447-1780135200-1780149600@cwsgcomo.org
SUMMARY:Experimenting with Twining Workshop
DESCRIPTION:Experimenting with Twining workshop sponsored by Como Craftcycle.  Feel free to participate in this workshop or just join us to sit and craft for a while!  We would love to see you.  Please visit Como Craftcycle for more information on the web and to register.
URL:https://cwsgcomo.org/event/experimenting-with-twining-workshop/
LOCATION:Boone Electric Cooperatve Community Room\, 1413 Rangeline St\, Columbia\, 65201\, United States
END:VEVENT
BEGIN:VEVENT
DTSTART;TZID=UTC:20260616T180000
DTEND;TZID=UTC:20260616T200000
DTSTAMP:20260423T091246
CREATED:20260422T185755Z
LAST-MODIFIED:20260422T185755Z
UID:3448-1781632800-1781640000@cwsgcomo.org
SUMMARY:Annual Picnic
DESCRIPTION:Bring a dish to share\, your membership dues for next year and a project you are working on to share. Please bring your own service and cutlery.
URL:https://cwsgcomo.org/event/annual-picnic/
LOCATION:Boone Electric Cooperatve Community Room\, 1413 Rangeline St\, Columbia\, 65201\, United States
END:VEVENT
END:VCALENDAR