BEGIN:VCALENDAR
VERSION:2.0
PRODID:-//CWSG - ECPv6.15.20//NONSGML v1.0//EN
CALSCALE:GREGORIAN
METHOD:PUBLISH
X-WR-CALNAME:CWSG
X-ORIGINAL-URL:https://cwsgcomo.org
X-WR-CALDESC:Events for CWSG
REFRESH-INTERVAL;VALUE=DURATION:PT1H
X-Robots-Tag:noindex
X-PUBLISHED-TTL:PT1H
BEGIN:VTIMEZONE
TZID:UTC
BEGIN:STANDARD
TZOFFSETFROM:+0000
TZOFFSETTO:+0000
TZNAME:UTC
DTSTART:20230101T000000
END:STANDARD
END:VTIMEZONE
BEGIN:VEVENT
DTSTART;TZID=UTC:20240816T080000
DTEND;TZID=UTC:20240816T093000
DTSTAMP:20260424T190801
CREATED:20240805T193647Z
LAST-MODIFIED:20240805T194116Z
UID:3190-1723795200-1723800600@cwsgcomo.org
SUMMARY:Nancy Elliott to present at Creative Mornings
DESCRIPTION:Our own Nancy Elliott was invited to speak at Creative Mornings.  This is a collection of creative people here in Columbia.  She is excited to share more about her craft. \nNancy Link Elliott has been an active member of the Columbia Weavers and Spinners’ Guild since 2010. \nOver the years\, she has served as a study group coordinator\, vice-president\, and president. Currently\, she volunteers as the marketing coordinator for the Guild’s Holiday Exhibition and Sale. \nNow retired\, Nancy dedicates much of her creative energy to fiber arts and bookmaking\, selling her creations at the Guild sale and Bluestem. \nShe studied art and biology in college and has had a diverse career encompassing lab work\, teaching\, nonprofit management\, and administrative support. \nOriginally from the outskirts of Chicago\, Nancy has lived across the US and spent a year in Tanzania. In 2008\, she moved from San Antonio\, TX\, to Columbia\, Missouri\, where she enjoys her peaceful home surrounded by woods and a small prairie. \nAug 16\, 2024 • 8:00 AM – 9:30 AM CDT • Montminy Gallery
URL:https://cwsgcomo.org/event/nancy-elliott-to-present-at-creative-mornings/
END:VEVENT
END:VCALENDAR