BEGIN:VCALENDAR
VERSION:2.0
PRODID:-//CWSG - ECPv6.15.20//NONSGML v1.0//EN
CALSCALE:GREGORIAN
METHOD:PUBLISH
X-ORIGINAL-URL:https://cwsgcomo.org
X-WR-CALDESC:Events for CWSG
REFRESH-INTERVAL;VALUE=DURATION:PT1H
X-Robots-Tag:noindex
X-PUBLISHED-TTL:PT1H
BEGIN:VTIMEZONE
TZID:UTC
BEGIN:STANDARD
TZOFFSETFROM:+0000
TZOFFSETTO:+0000
TZNAME:UTC
DTSTART:20230101T000000
END:STANDARD
END:VTIMEZONE
BEGIN:VEVENT
DTSTART;TZID=UTC:20241218T180000
DTEND;TZID=UTC:20241218T200000
DTSTAMP:20260423T190906
CREATED:20240805T181926Z
LAST-MODIFIED:20241009T191506Z
UID:3163-1734544800-1734552000@cwsgcomo.org
SUMMARY:CWSG December Monthly Meeting
DESCRIPTION:Join us for social time and community from 6:00-6:30 PM. \nBusiness meeting 6:30 to 7:00 PM. \nChristmas Party with gift exchange.  Please bring a handmade or craft related item less than $20 for the gift exchange if you wish to participate. Bring drinks and snacks to share. \nNo Zoom this month.
URL:https://cwsgcomo.org/event/cwsg-november-monthly-meeting/
LOCATION:Bethel Baptist Church and Zoom\, 201 E Old Plank Rd\, Columbia\, 65203\, United States
END:VEVENT
END:VCALENDAR